BEGIN:VCALENDAR
VERSION:2.0
PRODID:-//NIHR HRC in Paediatrics and Child Health - ECPv6.15.20//NONSGML v1.0//EN
CALSCALE:GREGORIAN
METHOD:PUBLISH
X-ORIGINAL-URL:https://hrc-children.nihr.ac.uk
X-WR-CALDESC:Events for NIHR HRC in Paediatrics and Child Health
REFRESH-INTERVAL;VALUE=DURATION:PT1H
X-Robots-Tag:noindex
X-PUBLISHED-TTL:PT1H
BEGIN:VTIMEZONE
TZID:Europe/London
BEGIN:DAYLIGHT
TZOFFSETFROM:+0000
TZOFFSETTO:+0100
TZNAME:BST
DTSTART:20250330T010000
END:DAYLIGHT
BEGIN:STANDARD
TZOFFSETFROM:+0100
TZOFFSETTO:+0000
TZNAME:GMT
DTSTART:20251026T010000
END:STANDARD
BEGIN:DAYLIGHT
TZOFFSETFROM:+0000
TZOFFSETTO:+0100
TZNAME:BST
DTSTART:20260329T010000
END:DAYLIGHT
BEGIN:STANDARD
TZOFFSETFROM:+0100
TZOFFSETTO:+0000
TZNAME:GMT
DTSTART:20261025T010000
END:STANDARD
BEGIN:DAYLIGHT
TZOFFSETFROM:+0000
TZOFFSETTO:+0100
TZNAME:BST
DTSTART:20270328T010000
END:DAYLIGHT
BEGIN:STANDARD
TZOFFSETFROM:+0100
TZOFFSETTO:+0000
TZNAME:GMT
DTSTART:20271031T010000
END:STANDARD
END:VTIMEZONE
BEGIN:VEVENT
DTSTART;TZID=Europe/London:20260513T100000
DTEND;TZID=Europe/London:20260513T140000
DTSTAMP:20260425T112433
CREATED:20260423T100351Z
LAST-MODIFIED:20260423T100902Z
UID:12195-1778666400-1778680800@hrc-children.nihr.ac.uk
SUMMARY:Is an NIHR career for you?
DESCRIPTION:Is a career in health and care research right for you? \nJoin us at the University of Sheffield Concourse on 13th May to explore the wide range of opportunities available through the National Institute for Health and Care Research (NIHR). \nWhether you are a student\, an early-career professional\, or simply curious about making a difference through research\, this event is a great opportunity to learn more. Connect with experts\, explore potential career pathways\, and discover how you can get involved. \nThe NIHR HRC in Paediatrics and Child Health will be there to talk about our Education Programme and share more about what we do – come and say hello!
URL:https://hrc-children.nihr.ac.uk/event/is-an-nihr-career-for-you-may-2026/
LOCATION:University of Sheffield Students Union Concourse\, Western Bank\, Sheffield\, S10 2TG
CATEGORIES:Career Development
ATTACH;FMTTYPE=image/png:https://hrc-children.nihr.ac.uk/wp-content/uploads/2026/04/event-nihr20-may2026-1200x457-1.png
END:VEVENT
END:VCALENDAR