BEGIN:VCALENDAR
VERSION:2.0
PRODID:-//NIHR HRC in Paediatrics and Child Health - ECPv6.15.20//NONSGML v1.0//EN
CALSCALE:GREGORIAN
METHOD:PUBLISH
X-WR-CALNAME:NIHR HRC in Paediatrics and Child Health
X-ORIGINAL-URL:https://hrc-children.nihr.ac.uk
X-WR-CALDESC:Events for NIHR HRC in Paediatrics and Child Health
REFRESH-INTERVAL;VALUE=DURATION:PT1H
X-Robots-Tag:noindex
X-PUBLISHED-TTL:PT1H
BEGIN:VTIMEZONE
TZID:Europe/London
BEGIN:DAYLIGHT
TZOFFSETFROM:+0000
TZOFFSETTO:+0100
TZNAME:BST
DTSTART:20250330T010000
END:DAYLIGHT
BEGIN:STANDARD
TZOFFSETFROM:+0100
TZOFFSETTO:+0000
TZNAME:GMT
DTSTART:20251026T010000
END:STANDARD
BEGIN:DAYLIGHT
TZOFFSETFROM:+0000
TZOFFSETTO:+0100
TZNAME:BST
DTSTART:20260329T010000
END:DAYLIGHT
BEGIN:STANDARD
TZOFFSETFROM:+0100
TZOFFSETTO:+0000
TZNAME:GMT
DTSTART:20261025T010000
END:STANDARD
BEGIN:DAYLIGHT
TZOFFSETFROM:+0000
TZOFFSETTO:+0100
TZNAME:BST
DTSTART:20270328T010000
END:DAYLIGHT
BEGIN:STANDARD
TZOFFSETFROM:+0100
TZOFFSETTO:+0000
TZNAME:GMT
DTSTART:20271031T010000
END:STANDARD
END:VTIMEZONE
BEGIN:VEVENT
DTSTART;TZID=Europe/London:20260323T100000
DTEND;TZID=Europe/London:20260323T163000
DTSTAMP:20260425T163633
CREATED:20260218T131306Z
LAST-MODIFIED:20260218T131306Z
UID:10325-1774260000-1774283400@hrc-children.nihr.ac.uk
SUMMARY:Annual Conference: Is a Career in Research for Me?
DESCRIPTION:This day-long event is aimed at students and recent graduates interested in research\, and will enable them to learn more about engaging with and getting involved in health and care research. \nThe event will cover: \n\nInteractive sessions with discussion leaders and workshops;\nAn introduction to research careers from those new to research\, plus talks on why research matters\, and demystifying research;\nOpportunities to engage with wider stakeholders through stalls available at the event; and\nThe chance to meet other attendees and learn from researchers at a range of career stages.\n\nAttendance from people inspiring to be healthcare professionals\, social work and public health professionals\, researchers\, and those under-represented within NIHR is encouraged.
URL:https://hrc-children.nihr.ac.uk/event/annual-conference-is-a-career-in-research-for-me/
LOCATION:Etc. Venues\, 11 Portland Street\, Manchester\, M1 3HU
ATTACH;FMTTYPE=image/png:https://hrc-children.nihr.ac.uk/wp-content/uploads/2026/02/logo-NIHR-495x400-1.png
END:VEVENT
END:VCALENDAR