BEGIN:VCALENDAR
VERSION:2.0
PRODID:-//NIHR HRC in Paediatrics and Child Health - ECPv6.15.20//NONSGML v1.0//EN
CALSCALE:GREGORIAN
METHOD:PUBLISH
X-WR-CALNAME:NIHR HRC in Paediatrics and Child Health
X-ORIGINAL-URL:https://hrc-children.nihr.ac.uk
X-WR-CALDESC:Events for NIHR HRC in Paediatrics and Child Health
REFRESH-INTERVAL;VALUE=DURATION:PT1H
X-Robots-Tag:noindex
X-PUBLISHED-TTL:PT1H
BEGIN:VTIMEZONE
TZID:Europe/London
BEGIN:DAYLIGHT
TZOFFSETFROM:+0000
TZOFFSETTO:+0100
TZNAME:BST
DTSTART:20250330T010000
END:DAYLIGHT
BEGIN:STANDARD
TZOFFSETFROM:+0100
TZOFFSETTO:+0000
TZNAME:GMT
DTSTART:20251026T010000
END:STANDARD
BEGIN:DAYLIGHT
TZOFFSETFROM:+0000
TZOFFSETTO:+0100
TZNAME:BST
DTSTART:20260329T010000
END:DAYLIGHT
BEGIN:STANDARD
TZOFFSETFROM:+0100
TZOFFSETTO:+0000
TZNAME:GMT
DTSTART:20261025T010000
END:STANDARD
BEGIN:DAYLIGHT
TZOFFSETFROM:+0000
TZOFFSETTO:+0100
TZNAME:BST
DTSTART:20270328T010000
END:DAYLIGHT
BEGIN:STANDARD
TZOFFSETFROM:+0100
TZOFFSETTO:+0000
TZNAME:GMT
DTSTART:20271031T010000
END:STANDARD
END:VTIMEZONE
BEGIN:VEVENT
DTSTART;VALUE=DATE:20260319
DTEND;VALUE=DATE:20260321
DTSTAMP:20260425T163623
CREATED:20260218T131010Z
LAST-MODIFIED:20260218T131010Z
UID:10319-1773878400-1774051199@hrc-children.nihr.ac.uk
SUMMARY:Alder Hey Innovation Celebration 2026
DESCRIPTION:Celebrate 10 years of innovation at Alder Hey! Join leaders\, creators\, and change makers for two days of inspiration\, ideas\, and impact\, marking a decade of innovation in children’s healthcare.
URL:https://hrc-children.nihr.ac.uk/event/alder-hey-innovation-celebration-2026/
LOCATION:Alder Hey Children’s Hospital Trust\, East Prescot Road\, Liverpool\, L14 5AB
ATTACH;FMTTYPE=image/jpeg:https://hrc-children.nihr.ac.uk/wp-content/uploads/2026/01/event-alder-hey-innovation-celebration-jan2026-495x400-1.jpg
END:VEVENT
BEGIN:VEVENT
DTSTART;TZID=Europe/London:20260319T120000
DTEND;TZID=Europe/London:20260319T130000
DTSTAMP:20260425T163623
CREATED:20260303T115601Z
LAST-MODIFIED:20260303T115800Z
UID:10457-1773921600-1773925200@hrc-children.nihr.ac.uk
SUMMARY:Innovation Champion Network (ICN) Sessions
DESCRIPTION:The Innovation Champion Network (ICN) sessions will start again in January 2026.  Medipex will be presenting an  ‘Introduction to Innovation and Intellectual Property’ across several dates and times. \nThe ICN forum aims to promote innovation across all NHS staff and create a network of people interested in engaging in discussions\, activities and to highlight the support available to healthcare innovators. \nThese sessions will also support NHS Organisations to comply with the Step 3 Good Practice Principles of the updated NHS IP Guidance: Intellectual property (IP) guidance for the NHS in England – GOV.UK \nThe ICN presentation will cover: \n\nWhat is intellectual property (IP)?\nThe importance of IP in the NHS and how it fits with innovation\nHow to identify and protect IP\nConsiderations for assessing and progressing ideas\nWhat is the role of individuals in IP development and management\n\nSessions will run on Thursday 19th March and Tuesday 31st March.
URL:https://hrc-children.nihr.ac.uk/event/innovation-champion-network-icn-sessions-19-march/
LOCATION:Online
ATTACH;FMTTYPE=image/jpeg:https://hrc-children.nihr.ac.uk/wp-content/uploads/2025/03/Medipex-Logo-495x300-1.jpg
END:VEVENT
END:VCALENDAR