BEGIN:VCALENDAR
VERSION:2.0
PRODID:-//NIHR HRC in Paediatrics and Child Health - ECPv6.15.20//NONSGML v1.0//EN
CALSCALE:GREGORIAN
METHOD:PUBLISH
X-WR-CALNAME:NIHR HRC in Paediatrics and Child Health
X-ORIGINAL-URL:https://hrc-children.nihr.ac.uk
X-WR-CALDESC:Events for NIHR HRC in Paediatrics and Child Health
REFRESH-INTERVAL;VALUE=DURATION:PT1H
X-Robots-Tag:noindex
X-PUBLISHED-TTL:PT1H
BEGIN:VTIMEZONE
TZID:Europe/London
BEGIN:DAYLIGHT
TZOFFSETFROM:+0000
TZOFFSETTO:+0100
TZNAME:BST
DTSTART:20250330T010000
END:DAYLIGHT
BEGIN:STANDARD
TZOFFSETFROM:+0100
TZOFFSETTO:+0000
TZNAME:GMT
DTSTART:20251026T010000
END:STANDARD
BEGIN:DAYLIGHT
TZOFFSETFROM:+0000
TZOFFSETTO:+0100
TZNAME:BST
DTSTART:20260329T010000
END:DAYLIGHT
BEGIN:STANDARD
TZOFFSETFROM:+0100
TZOFFSETTO:+0000
TZNAME:GMT
DTSTART:20261025T010000
END:STANDARD
BEGIN:DAYLIGHT
TZOFFSETFROM:+0000
TZOFFSETTO:+0100
TZNAME:BST
DTSTART:20270328T010000
END:DAYLIGHT
BEGIN:STANDARD
TZOFFSETFROM:+0100
TZOFFSETTO:+0000
TZNAME:GMT
DTSTART:20271031T010000
END:STANDARD
END:VTIMEZONE
BEGIN:VEVENT
DTSTART;TZID=Europe/London:20260304T120000
DTEND;TZID=Europe/London:20260304T163000
DTSTAMP:20260425T163653
CREATED:20260218T123516Z
LAST-MODIFIED:20260218T123516Z
UID:10299-1772625600-1772641800@hrc-children.nihr.ac.uk
SUMMARY:RCPCH Consultant's Research Day
DESCRIPTION:This online learning event is for consultant paediatricians looking to get started or further expand their experience in research. Joins this session if you’d like to develop your understanding of research infrastructure\, funding pathways\, and getting involved in research leadership roles as well as learn more about research collaboration.
URL:https://hrc-children.nihr.ac.uk/event/rcpch-consultants-research-day/
LOCATION:Online
ATTACH;FMTTYPE=image/png:https://hrc-children.nihr.ac.uk/wp-content/uploads/2026/02/logo-RCPCH-495x400-1.png
END:VEVENT
BEGIN:VEVENT
DTSTART;TZID=Europe/London:20260304T143000
DTEND;TZID=Europe/London:20260304T183000
DTSTAMP:20260425T163653
CREATED:20260218T123020Z
LAST-MODIFIED:20260218T123154Z
UID:10292-1772634600-1772649000@hrc-children.nihr.ac.uk
SUMMARY:MedTech Venture Kickstarter Showcase
DESCRIPTION:Celebrate the inaugural cohort of the Innovate UK Biomedical Catalyst Accelerator MedTech Venture Kickstarter. The showcase marks the culmination of a four-month\, late-stage programme designed to de-risk and accelerate the commercial readiness of MedTech ventures. \nJoin the event to see participants showcase their progress\, offering a unique opportunity to engage with investment-ready companies developing technologies that advance towards clinical adoption and deliver meaningful benefits to patients.
URL:https://hrc-children.nihr.ac.uk/event/medtech-venture-kickstarter-showcase/
LOCATION:London Institute of Healthcare Engineering (LIHE)\, 100 Lambeth Palace Road\, London\, SE1 7AR
ATTACH;FMTTYPE=image/png:https://hrc-children.nihr.ac.uk/wp-content/uploads/2026/02/medtech-venture-kickstarter-showcase-2026.png
END:VEVENT
END:VCALENDAR