BEGIN:VCALENDAR
VERSION:2.0
PRODID:-//NIHR HRC in Paediatrics and Child Health - ECPv6.15.20//NONSGML v1.0//EN
CALSCALE:GREGORIAN
METHOD:PUBLISH
X-ORIGINAL-URL:https://hrc-children.nihr.ac.uk
X-WR-CALDESC:Events for NIHR HRC in Paediatrics and Child Health
REFRESH-INTERVAL;VALUE=DURATION:PT1H
X-Robots-Tag:noindex
X-PUBLISHED-TTL:PT1H
BEGIN:VTIMEZONE
TZID:Europe/London
BEGIN:DAYLIGHT
TZOFFSETFROM:+0000
TZOFFSETTO:+0100
TZNAME:BST
DTSTART:20250330T010000
END:DAYLIGHT
BEGIN:STANDARD
TZOFFSETFROM:+0100
TZOFFSETTO:+0000
TZNAME:GMT
DTSTART:20251026T010000
END:STANDARD
BEGIN:DAYLIGHT
TZOFFSETFROM:+0000
TZOFFSETTO:+0100
TZNAME:BST
DTSTART:20260329T010000
END:DAYLIGHT
BEGIN:STANDARD
TZOFFSETFROM:+0100
TZOFFSETTO:+0000
TZNAME:GMT
DTSTART:20261025T010000
END:STANDARD
BEGIN:DAYLIGHT
TZOFFSETFROM:+0000
TZOFFSETTO:+0100
TZNAME:BST
DTSTART:20270328T010000
END:DAYLIGHT
BEGIN:STANDARD
TZOFFSETFROM:+0100
TZOFFSETTO:+0000
TZNAME:GMT
DTSTART:20271031T010000
END:STANDARD
END:VTIMEZONE
BEGIN:VEVENT
DTSTART;TZID=Europe/London:20260226T090000
DTEND;TZID=Europe/London:20260226T170000
DTSTAMP:20260425T202156
CREATED:20260218T114121Z
LAST-MODIFIED:20260326T135028Z
UID:10260-1772096400-1772125200@hrc-children.nihr.ac.uk
SUMMARY:Children’s Mental Health in a Digital World: Science\, Policy & Practicality
DESCRIPTION:The impact of digital technology and social media on children’s mental health is a topic of global concern\, but separating fact from fiction can be challenging. \nJoin leading experts for a full-day conference exploring the science\, policy and practical strategies surrounding children and young people’s mental wellbeing in a digital world.
URL:https://hrc-children.nihr.ac.uk/event/childrens-mental-health-in-a-digital-world-science-policy-practicality/
LOCATION:Lecture Theatre 2\, New Hunt’s House\, Great Maze Pond\, London\, SE1 1UL
CATEGORIES:Conference
ATTACH;FMTTYPE=image/jpeg:https://hrc-children.nihr.ac.uk/wp-content/uploads/2026/02/logo-nihr-brc-maudsley-495x400-1.jpg
END:VEVENT
BEGIN:VEVENT
DTSTART;TZID=Europe/London:20260226T103000
DTEND;TZID=Europe/London:20260226T120000
DTSTAMP:20260425T202156
CREATED:20260218T113525Z
LAST-MODIFIED:20260218T114910Z
UID:10252-1772101800-1772107200@hrc-children.nihr.ac.uk
SUMMARY:Social Care and Work: Is a Career in Research for Me?
DESCRIPTION:This 75-minute webinar is for anyone interested in exploring research as part of their career in social care and social work. \nThe webinar will cover: \n\nInsights into life as a research professional\, shared by researchers at different career stages;\nAn overview of research career pathways and what research work looks like in practice; and\nKey opportunities and challenges within research careers.
URL:https://hrc-children.nihr.ac.uk/event/social-care-and-work-is-a-career-in-research-for-me/
LOCATION:Online
ATTACH;FMTTYPE=image/png:https://hrc-children.nihr.ac.uk/wp-content/uploads/2026/02/logo-NIHR-495x400-1.png
END:VEVENT
END:VCALENDAR